BEGIN:VCALENDAR
VERSION:2.0
PRODID:-//North Texas Market Insider - ECPv6.15.20//NONSGML v1.0//EN
CALSCALE:GREGORIAN
METHOD:PUBLISH
X-WR-CALNAME:North Texas Market Insider
X-ORIGINAL-URL:https://northtexasmarketinsider.com
X-WR-CALDESC:Events for North Texas Market Insider
REFRESH-INTERVAL;VALUE=DURATION:PT1H
X-Robots-Tag:noindex
X-PUBLISHED-TTL:PT1H
BEGIN:VTIMEZONE
TZID:America/Chicago
BEGIN:DAYLIGHT
TZOFFSETFROM:-0600
TZOFFSETTO:-0500
TZNAME:CDT
DTSTART:20240310T080000
END:DAYLIGHT
BEGIN:STANDARD
TZOFFSETFROM:-0500
TZOFFSETTO:-0600
TZNAME:CST
DTSTART:20241103T070000
END:STANDARD
BEGIN:DAYLIGHT
TZOFFSETFROM:-0600
TZOFFSETTO:-0500
TZNAME:CDT
DTSTART:20250309T080000
END:DAYLIGHT
BEGIN:STANDARD
TZOFFSETFROM:-0500
TZOFFSETTO:-0600
TZNAME:CST
DTSTART:20251102T070000
END:STANDARD
BEGIN:DAYLIGHT
TZOFFSETFROM:-0600
TZOFFSETTO:-0500
TZNAME:CDT
DTSTART:20260308T080000
END:DAYLIGHT
BEGIN:STANDARD
TZOFFSETFROM:-0500
TZOFFSETTO:-0600
TZNAME:CST
DTSTART:20261101T070000
END:STANDARD
END:VTIMEZONE
BEGIN:VEVENT
DTSTART;TZID=America/Chicago:20250927T090000
DTEND;TZID=America/Chicago:20250927T140000
DTSTAMP:20260419T123553
CREATED:20250923T212544Z
LAST-MODIFIED:20250923T212716Z
UID:20289-1758963600-1758981600@northtexasmarketinsider.com
SUMMARY:Ovilla Heritage Day - Celebrating 40 Years
DESCRIPTION:OVILLA HERITAGE DAY – CELEBRATING 40 YEARS! \nThe City of Ovilla is excited to invite every citizen to join us for our 40th Annual Heritage Day Celebration on Saturday\, September 27\, 2025\, from 9:00 a.m. to 2:00 p.m. at the park grounds behind Ovilla City Hall. This is YOUR day\, a chance for the whole community to come together and celebrate the rich heritage\, history\, and spirit of our small-town Texas home. \n🌟 This year’s theme: “Ovilla Small Town – Texas Style” \nThe celebration kicks off with the Heritage Day Parade at 9:00 a.m.\, starting at Ovilla Road Baptist Church and ending at the park behind City Hall. Floats\, walking groups\, motorized units\, and more will fill the streets with energy and pride. \nParade entry forms are available now at 👉 https://www.cityofovilla.org/281/Heritage-Day \n🎶 Opening ceremonies begin at 9:30 a.m. on the park grounds\, featuring a special plane flyover during the National Anthem. \n🚒🚓🚑Throughout the day\, enjoy exciting displays and demonstrations\, including: \n– Fire\, EMS\, and Police vehicle showcases\n– Fire Department “Jaws of Life” extrication demo\n– CareFlite helicopter landing\, take-off\, and show & tell \n🍔🎤🎪 That’s not all! The grounds will be filled with: \n– A wide variety of food trucks & vendors\n– Live performances\n– A car show\n– Petting zoo\n– Climbing wall & bounce houses for the kids\n– And so much more family fun! \n🌟 This year\, we are especially proud to recognize Paige Greenberg\, who will serve as the 2025 Heritage Day Grand Marshal. Her determination and accomplishments make her a shining example of the Ovilla spirit. \nOn behalf of the Mayor and City Council\, we warmly invite you to be part of this unforgettable day. Bring your family\, bring your friends\, and let’s celebrate Ovilla’s heritage\, together. ❤️ \n📅 Save the Date: Saturday\, September 27\, 2025\n🕘 Time: 9:00 a.m. – 2:00 p.m.\n📍 Location: Park grounds behind Ovilla City Hall \n👉 Mark your calendars now\, and help us make the 40th anniversary of Heritage Day the best one yet!
URL:https://northtexasmarketinsider.com/event/ovilla-heritage-day-celebrating-40-years/
LOCATION:Ovilla City Hall Park Grounds\, 105 Cockrell Hill\, Red Oak\, Texas\, 75154
CATEGORIES:Citywide Celebrations,Ovilla
ATTACH;FMTTYPE=image/jpeg:https://northtexasmarketinsider.com/wp-content/uploads/2025/09/City-of-Ovilla-Heritage-Day.jpg
END:VEVENT
BEGIN:VEVENT
DTSTART;TZID=America/Chicago:20250927T083000
DTEND;TZID=America/Chicago:20250927T143000
DTSTAMP:20260419T123553
CREATED:20250923T211354Z
LAST-MODIFIED:20250923T211354Z
UID:20278-1758961800-1758983400@northtexasmarketinsider.com
SUMMARY:Fall Fun Festival
DESCRIPTION:Come out and join us at our annual Fall Fun Festival at the Midlothian Civic Center from 8:30a-2:30p Sat. Sept. 27th! There will be a costume contest (11am) for kids 12 and under\, vendors\, food\, shopping\, kids activities (bean bag toss\, trick or treating at the vendor booth\, face painting) and FUN. This is a FREE family friendly event.\nwww.icevents.info
URL:https://northtexasmarketinsider.com/event/fall-fun-festival/
LOCATION:Midlothian Civic Center\, 224 S 11th St\, Midlothian\, Texas\, 76065
CATEGORIES:Halloween
ATTACH;FMTTYPE=image/png:https://northtexasmarketinsider.com/wp-content/uploads/2025/09/Fall-Festival-Midlothian.png
END:VEVENT
BEGIN:VEVENT
DTSTART;VALUE=DATE:20250927
DTEND;VALUE=DATE:20250928
DTSTAMP:20260419T123553
CREATED:20250923T214104Z
LAST-MODIFIED:20250923T214104Z
UID:20302-1758931200-1759017599@northtexasmarketinsider.com
SUMMARY:4th Annual Oktoberfest Weekend
DESCRIPTION:Join us for a weekend of celebration\, community\, and fun at the 4th Annual Oktoberfest at Southern Roots! Our festivities span three days\, packed with events and activities for everyone to enjoy. \n\nThursday\, September 25th: Essential Worker/Industry Night\nFriday\, September 26th: Kolsch Service Night @ 7PM\nSaturday\, September 27th: Oktoberfest Extravaganza & Roots and Boots Concert\n\nMore Details to Come!! \nDon’t miss out on this fantastic celebration of culture\, food\, and community. Prost! \n  \n 
URL:https://northtexasmarketinsider.com/event/4th-annual-oktoberfest-weekend/
LOCATION:Southern Roots Brewery\, 421 S College St.\, Waxahachie\, Texas\, 75165
CATEGORIES:Oktoberfest
ATTACH;FMTTYPE=image/jpeg:https://northtexasmarketinsider.com/wp-content/uploads/2025/09/Oktoberfest.jpg
END:VEVENT
BEGIN:VEVENT
DTSTART;TZID=America/Chicago:20250926T090000
DTEND;TZID=America/Chicago:20250928T160000
DTSTAMP:20260419T123553
CREATED:20250919T013107Z
LAST-MODIFIED:20250919T013107Z
UID:20134-1758877200-1759075200@northtexasmarketinsider.com
SUMMARY:Hollydays Market of Waxahachie
DESCRIPTION:Step into “The Way Shopping Should Feel”™ and discover over 130+ small businesses offering one-of-a-kind gifts perfect for every holiday celebration!🎁 \n🛍️Three days of festive shopping fun await! Grab your girlfriends\, mom\, or daughter\, and make a day of it while supporting amazing small businesses at Hollydays Market of Waxahachie!✨ \n🎅Be sure to snap a photo with Santa all weekend long!\n𝐒𝐏𝐎𝐍𝐒𝐎𝐑𝐄𝐃 𝐁𝐘 𝐋𝐄𝐀𝐅 𝐅𝐈𝐋𝐓𝐄𝐑🍂\n.\n.\n.\n‘First Call Shopping’ Hours: Friday 9:00 am-12:00 pm\nGeneral Admission Hours: Friday 12:00 pm-5:00 pm | Saturday 9:00 am- 5:00 pm | Sunday 11:00 am-4:00 pm \n🎟️’𝐅𝐢𝐫𝐬𝐭 𝐂𝐚𝐥𝐥’: $𝟏𝟎 | 𝐆𝐞𝐧𝐞𝐫𝐚𝐥 𝐀𝐝𝐦𝐢𝐬𝐬𝐢𝐨𝐧: $𝟔\nTickets available online or at the door!\n👉https://homefortheholidaysgiftmarket.com \n12 & under are FREE\nTickets valid for re-admission with wristband & email confirmation!
URL:https://northtexasmarketinsider.com/event/hollydays-market-of-waxahachie/
LOCATION:Waxahachie Civic Center\, 2000 Civic Center Lane\, Waxahachie\, TX\, 75165\, United States
ATTACH;FMTTYPE=image/jpeg:https://northtexasmarketinsider.com/wp-content/uploads/2025/09/Hollydays-of-Waxahachie.jpg
END:VEVENT
BEGIN:VEVENT
DTSTART;TZID=America/Chicago:20250926T070000
DTEND;TZID=America/Chicago:20250926T100000
DTSTAMP:20260419T123553
CREATED:20250923T213413Z
LAST-MODIFIED:20250923T213413Z
UID:20296-1758870000-1758880800@northtexasmarketinsider.com
SUMMARY:5th Annual Sporting Clay Classic
DESCRIPTION:🎯 Ellis County Sporting Clay Classic 2025\n💥 Friday\, September 26 | 7:00 AM – Ellis County Sportsman Center | 470 W Sterrett Rd. Waxahachie\, Texas\, 75167 \nLock\, load\, and hit the range with us for a day of competition\, camaraderie\, and serious Texas-style fun—all to support the kids and families served by the Ellis County Children’s Advocacy Center. \n💣 Whether you’re the sharpest shot in the county or just in it for the fish fry and tunes\, there’s a spot for you! \n🔥 What to Expect: \n🎯 Sporting Clay Tournament \n🌯 ☕️ Breakfast tacos and Dutch Bros. coffee provided at check-in \n🐟 Fish fry lunch with cold drinks + beer \n🎸 Live music during lunch \n🔫 His & Hers Gun Raffle – win a custom wrapped pistol or a high-end shotgun \n📢 Silent auction \n💥 NEW: Lunch-Only Tickets available if you want to skip the shoot but still enjoy the food\, music\, and raffles \n🧢 Bring your best aim—or just your appetite. Either way\, it’s all for a cause that matters. \n🎟️ Sign up\, sponsor\, or grab your lunch-only tickets here: \nhttps://www.elliscountycac.org/2025-sporting-clay-classic \n#ShootForACause #ClayShoot2025 #EllisCountyEvents #FishFryAndFirepower
URL:https://northtexasmarketinsider.com/event/5th-annual-sporting-clay-classic/
LOCATION:Ellis County Sportsman Center\, 470 W Sterrett Rd.\, Waxahachie\, Texas\, 75167
CATEGORIES:Clay Shooting,Ellis County Children's Advocacy Center
ATTACH;FMTTYPE=image/jpeg:https://northtexasmarketinsider.com/wp-content/uploads/2025/09/Clay-Classic.jpg
END:VEVENT
BEGIN:VEVENT
DTSTART;TZID=America/Chicago:20250920T090000
DTEND;TZID=America/Chicago:20250920T150000
DTSTAMP:20260419T123553
CREATED:20250916T222619Z
LAST-MODIFIED:20250916T222619Z
UID:19946-1758358800-1758380400@northtexasmarketinsider.com
SUMMARY:Junk In The Trunk
DESCRIPTION:Junk in the Trunk – A Community Favorite Event! \n\n Date: September 20\, 2025 Time: 9:00 AM – 3:00 PM\n Location: Waxahachie Downtown\n\nJoin us for the Waxahachie Downtown Merchants Association’s Junk in the Trunk—a community tradition inspired by the European “Boot Sales”! Vendors “purchase” parking spots and transform them into vibrant pop-up shops with tables and tents\, offering an eclectic mix of:\n\n Vintage treasures Antiques Handmade creations\n Admission is FREE for shoppers—come browse and enjoy the day! \n Tickets are only required for vendors wishing to reserve a booth space.Vendor tickets can only be purchased from the event link on this page.\n\nVendor Details: Booth cost: $40 Spaces are limited and sell out quickly! Vendors must have physical products on-site\, ready for sale (no pre-orders or services).Don’t miss this opportunity to shop\, sell\, and enjoy the fun!
URL:https://northtexasmarketinsider.com/event/junk-in-the-trunk/
LOCATION:Downtown Waxahachie\, Waxahachie\, TX\, 75165\, United States
ATTACH;FMTTYPE=image/jpeg:https://northtexasmarketinsider.com/wp-content/uploads/2025/09/Junk-In-the-Trunk.jpg
END:VEVENT
BEGIN:VEVENT
DTSTART;TZID=America/Chicago:20250918T080000
DTEND;TZID=America/Chicago:20250918T170000
DTSTAMP:20260419T123553
CREATED:20250919T013833Z
LAST-MODIFIED:20250919T013927Z
UID:20141-1758182400-1758214800@northtexasmarketinsider.com
SUMMARY:Downtown Waxahachie 3rd Saturday Stroll
DESCRIPTION:Join the Rogers Street Boutique Babes for 3rd Saturday\n************* EVERY MONTH***************** \nfor FREE Sips & Shopping! \nStop by all 5 participating locations for chance to\n!!!!!!!!!!!!!!!!! WIN $200 SHOPPING SPREE !!!!!!!!!!!!!!!!!! \nSee any of the 5 stores for a map & details.
URL:https://northtexasmarketinsider.com/event/downtown-waxahachie-3rd-saturday-stroll/
LOCATION:Downtown Waxahachie\, Waxahachie\, TX\, 75165\, United States
CATEGORIES:Downtown Waxahachie Shopping
ATTACH;FMTTYPE=image/jpeg:https://northtexasmarketinsider.com/wp-content/uploads/2025/09/Hachie-Boutique-Babes.jpg
END:VEVENT
END:VCALENDAR