BEGIN:VCALENDAR
VERSION:2.0
PRODID:-//North Texas Market Insider - ECPv6.15.20//NONSGML v1.0//EN
CALSCALE:GREGORIAN
METHOD:PUBLISH
X-ORIGINAL-URL:https://northtexasmarketinsider.com
X-WR-CALDESC:Events for North Texas Market Insider
REFRESH-INTERVAL;VALUE=DURATION:PT1H
X-Robots-Tag:noindex
X-PUBLISHED-TTL:PT1H
BEGIN:VTIMEZONE
TZID:America/Chicago
BEGIN:DAYLIGHT
TZOFFSETFROM:-0600
TZOFFSETTO:-0500
TZNAME:CDT
DTSTART:20240310T080000
END:DAYLIGHT
BEGIN:STANDARD
TZOFFSETFROM:-0500
TZOFFSETTO:-0600
TZNAME:CST
DTSTART:20241103T070000
END:STANDARD
BEGIN:DAYLIGHT
TZOFFSETFROM:-0600
TZOFFSETTO:-0500
TZNAME:CDT
DTSTART:20250309T080000
END:DAYLIGHT
BEGIN:STANDARD
TZOFFSETFROM:-0500
TZOFFSETTO:-0600
TZNAME:CST
DTSTART:20251102T070000
END:STANDARD
BEGIN:DAYLIGHT
TZOFFSETFROM:-0600
TZOFFSETTO:-0500
TZNAME:CDT
DTSTART:20260308T080000
END:DAYLIGHT
BEGIN:STANDARD
TZOFFSETFROM:-0500
TZOFFSETTO:-0600
TZNAME:CST
DTSTART:20261101T070000
END:STANDARD
END:VTIMEZONE
BEGIN:VEVENT
DTSTART;TZID=America/Chicago:20251011T200000
DTEND;TZID=America/Chicago:20251011T220000
DTSTAMP:20260419T151456
CREATED:20251012T033406Z
LAST-MODIFIED:20251012T033406Z
UID:20901-1760212800-1760220000@northtexasmarketinsider.com
SUMMARY:Halloween Neon Dance Party
DESCRIPTION:A glow-in-the-dark dance party for musical theatre lovers (and the theatre curious)! Come\, learn\, fun\, easy to follow combos with Hadestown\, Addams Family\, and more – plus glow sticks\, black lights\, and costume fun. No experience needed. Teens and adults. Free to attend! Waiver and pick up form required. Reserve your spot before they run out!
URL:https://northtexasmarketinsider.com/event/halloween-neon-dance-party/
LOCATION:The Dance Center Waxahachie\, 601 Ferris Ave\, Waxahachie\, TX\, 75165\, United States
CATEGORIES:Dance Party,Halloween
ATTACH;FMTTYPE=image/jpeg:https://northtexasmarketinsider.com/wp-content/uploads/2025/10/IMG_6453.jpg
END:VEVENT
END:VCALENDAR